BEGIN:VCALENDAR
VERSION:2.0
PRODID:-//Participa energía - ECPv6.15.20//NONSGML v1.0//EN
CALSCALE:GREGORIAN
METHOD:PUBLISH
X-WR-CALNAME:Participa energía
X-ORIGINAL-URL:https://participaenergia.com
X-WR-CALDESC:Eventos para Participa energía
REFRESH-INTERVAL;VALUE=DURATION:PT1H
X-Robots-Tag:noindex
X-PUBLISHED-TTL:PT1H
BEGIN:VTIMEZONE
TZID:UTC
BEGIN:STANDARD
TZOFFSETFROM:+0000
TZOFFSETTO:+0000
TZNAME:UTC
DTSTART:20230101T000000
END:STANDARD
END:VTIMEZONE
BEGIN:VEVENT
DTSTART;TZID=UTC:20240403T183000
DTEND;TZID=UTC:20240403T203000
DTSTAMP:20260423T193417
CREATED:20240326T123211Z
LAST-MODIFIED:20240326T123211Z
UID:692-1712169000-1712176200@participaenergia.com
SUMMARY:Charla de Difusión en Agüero
DESCRIPTION:  \nLa Charla en Agüero se retransmitirá por streaming\, por lo que si no puedes acudir al evento podrás conectarte de manera online. El enlace se colgará en el portal del Ayuntamiento de Agüero.
URL:https://participaenergia.com/evento/charla-de-difusion-en-aguero/
LOCATION:Club Socil de Agüero\, Plaza Era Patía\, Agüero\, Huesca\, 22808\, España
CATEGORIES:Eventos de la OTC Participa Energía
ATTACH;FMTTYPE=image/svg+xml:https://participaenergia.com/wp-content/uploads/2023/11/difusion.svg
END:VEVENT
BEGIN:VEVENT
DTSTART;TZID=UTC:20240410T180000
DTEND;TZID=UTC:20240410T200000
DTSTAMP:20260423T193417
CREATED:20240220T112719Z
LAST-MODIFIED:20240220T112830Z
UID:635-1712772000-1712779200@participaenergia.com
SUMMARY:Charla de Difusión en Alagón
DESCRIPTION:
URL:https://participaenergia.com/evento/charla-de-difusion-en-alagon/
LOCATION:Sede Comarcal de la Ribera alta del Ebro\, c/ Almogavares\, 51.\, Alagón\, Zaragoza\, 50630\, España
CATEGORIES:Eventos de la OTC Participa Energía
ATTACH;FMTTYPE=image/svg+xml:https://participaenergia.com/wp-content/uploads/2023/11/difusion.svg
END:VEVENT
BEGIN:VEVENT
DTSTART;TZID=UTC:20240412T180000
DTEND;TZID=UTC:20240412T200000
DTSTAMP:20260423T193417
CREATED:20240314T221928Z
LAST-MODIFIED:20240314T221928Z
UID:655-1712944800-1712952000@participaenergia.com
SUMMARY:Charla de Difusión en Angüés
DESCRIPTION:
URL:https://participaenergia.com/evento/charla-de-difusion-en-angues/
LOCATION:Club Social de Angüés\, C. Baja\, 22\, Angüés\, Huesca\, 22123\, España
CATEGORIES:Eventos de la OTC Participa Energía
ATTACH;FMTTYPE=image/svg+xml:https://participaenergia.com/wp-content/uploads/2023/11/difusion.svg
END:VEVENT
BEGIN:VEVENT
DTSTART;TZID=UTC:20240412T193000
DTEND;TZID=UTC:20240412T213000
DTSTAMP:20260423T193417
CREATED:20240314T221201Z
LAST-MODIFIED:20240314T221425Z
UID:648-1712950200-1712957400@participaenergia.com
SUMMARY:Charla de Difusión en La Fresneda
DESCRIPTION:
URL:https://participaenergia.com/evento/charla-de-difusion-en-la-fresneda/
LOCATION:Centro Cultural La Fresneda\, C. Eras\, 18\, La Fresneda\, Teruel\, 44596\, España
CATEGORIES:Eventos de la OTC Participa Energía
ATTACH;FMTTYPE=image/png:https://participaenergia.com/wp-content/uploads/2024/03/difusion-1.png
END:VEVENT
BEGIN:VEVENT
DTSTART;TZID=UTC:20240416T180000
DTEND;TZID=UTC:20240416T200000
DTSTAMP:20260423T193417
CREATED:20240315T130136Z
LAST-MODIFIED:20240315T130241Z
UID:665-1713290400-1713297600@participaenergia.com
SUMMARY:Presentación Escuela Energía Común en la Comarca de las Cinco Villas
DESCRIPTION:Energía Común es una iniciativa de ECODES dirigida a generar un espacio para el conocimiento\, el intercambio de experiencias\, la creación de redes y la inteligencia colectiva que fomente la creación de comunidades energéticas con impacto ambiental y social.
URL:https://participaenergia.com/evento/presentacion-escuela-energia-comun-en-la-comarca-de-las-cinco-villas/
LOCATION:Sede de Adefo\, Plaza Diputación 4\, Ejea de los Caballeros\, Zaragoza\, 50600\, España
CATEGORIES:Eventos de las otras OTC
END:VEVENT
BEGIN:VEVENT
DTSTART;TZID=UTC:20240417T180000
DTEND;TZID=UTC:20240417T200000
DTSTAMP:20260423T193417
CREATED:20240315T130533Z
LAST-MODIFIED:20240315T130533Z
UID:669-1713376800-1713384000@participaenergia.com
SUMMARY:Presentación Escuela Energía Común en las comarcas de La Litera\, Bajo Cinca y Cinca medio
DESCRIPTION:Energía Común es una iniciativa de ECODES dirigida a generar un espacio para el conocimiento\, el intercambio de experiencias\, la creación de redes y la inteligencia colectiva que fomente la creación de comunidades energéticas con impacto ambiental y social.
URL:https://participaenergia.com/evento/presentacion-escuela-energia-comun-en-las-comarcas-de-la-litera-bajo-cinca-y-cinca-medio/
CATEGORIES:Eventos de las otras OTC
END:VEVENT
BEGIN:VEVENT
DTSTART;TZID=UTC:20240418T180000
DTEND;TZID=UTC:20240418T200000
DTSTAMP:20260423T193417
CREATED:20240315T130745Z
LAST-MODIFIED:20240315T130917Z
UID:671-1713463200-1713470400@participaenergia.com
SUMMARY:Presentación Escuela Energía Común en las comarcas de Tarazona\, el Moncayo y Campo de Borja
DESCRIPTION:Energía Común es una iniciativa de ECODES dirigida a generar un espacio para el conocimiento\, el intercambio de experiencias\, la creación de redes y la inteligencia colectiva que fomente la creación de comunidades energéticas con impacto ambiental y social.
URL:https://participaenergia.com/evento/presentacion-escuela-energia-comun-en-las-comarcas-de-tarazona-el-moncayo-y-campo-de-borja/
LOCATION:Tarazona\, Tarazona\, Zaragoza\, 50500\, España
CATEGORIES:Eventos de las otras OTC
END:VEVENT
BEGIN:VEVENT
DTSTART;TZID=UTC:20240424T180000
DTEND;TZID=UTC:20240424T200000
DTSTAMP:20260423T193417
CREATED:20240315T131158Z
LAST-MODIFIED:20240315T131158Z
UID:674-1713981600-1713988800@participaenergia.com
SUMMARY:Presentación Escuela Energía Común en la comarca de Monegros
DESCRIPTION:Energía Común es una iniciativa de ECODES dirigida a generar un espacio para el conocimiento\, el intercambio de experiencias\, la creación de redes y la inteligencia colectiva que fomente la creación de comunidades energéticas con impacto ambiental y social.
URL:https://participaenergia.com/evento/presentacion-escuela-energia-comun-en-la-comarca-de-monegros/
LOCATION:Sariñena\, Sariñena\, Huesca\, 22200\, España
CATEGORIES:Eventos de las otras OTC
END:VEVENT
BEGIN:VEVENT
DTSTART;TZID=UTC:20240425T180000
DTEND;TZID=UTC:20240425T200000
DTSTAMP:20260423T193417
CREATED:20240315T131520Z
LAST-MODIFIED:20240315T131520Z
UID:677-1714068000-1714075200@participaenergia.com
SUMMARY:Presentación Escuela Energía Común en las comarcas de Bajo Martín y Andorra-Sierra de Arcos
DESCRIPTION:Energía Común es una iniciativa de ECODES dirigida a generar un espacio para el conocimiento\, el intercambio de experiencias\, la creación de redes y la inteligencia colectiva que fomente la creación de comunidades energéticas con impacto ambiental y social.
URL:https://participaenergia.com/evento/presentacion-escuela-energia-comun-en-las-comarcas-de-bajo-martin-y-andorra-sierra-de-arcos/
LOCATION:Sede de Adibama\, Rda. del Pintor Gárate\, 54\, Albalate del Arzobispo\, Teruel\, 44540
CATEGORIES:Eventos de las otras OTC
END:VEVENT
BEGIN:VEVENT
DTSTART;TZID=UTC:20240425T193000
DTEND;TZID=UTC:20240425T213000
DTSTAMP:20260423T193417
CREATED:20240520T164306Z
LAST-MODIFIED:20240520T164306Z
UID:754-1714073400-1714080600@participaenergia.com
SUMMARY:Charla de Difusión en Setiles
DESCRIPTION:
URL:https://participaenergia.com/evento/charla-de-difusion-en-setiles/
LOCATION:Salón de Plenos del Ayuntamiento de Setiles\, c/ La Fuente 25\, Setiles\, Guadalajara\, 19324\, España
CATEGORIES:Eventos de las otras OTC
ATTACH;FMTTYPE=image/svg+xml:https://participaenergia.com/wp-content/uploads/2023/11/difusion.svg
END:VEVENT
END:VCALENDAR