BEGIN:VCALENDAR
VERSION:2.0
PRODID:-//Participa energía - ECPv6.15.20//NONSGML v1.0//EN
CALSCALE:GREGORIAN
METHOD:PUBLISH
X-ORIGINAL-URL:https://participaenergia.com
X-WR-CALDESC:Eventos para Participa energía
REFRESH-INTERVAL;VALUE=DURATION:PT1H
X-Robots-Tag:noindex
X-PUBLISHED-TTL:PT1H
BEGIN:VTIMEZONE
TZID:UTC
BEGIN:STANDARD
TZOFFSETFROM:+0000
TZOFFSETTO:+0000
TZNAME:UTC
DTSTART:20230101T000000
END:STANDARD
END:VTIMEZONE
BEGIN:VEVENT
DTSTART;TZID=UTC:20240322T180000
DTEND;TZID=UTC:20240322T200000
DTSTAMP:20260423T212430
CREATED:20240212T153036Z
LAST-MODIFIED:20240213T145726Z
UID:591-1711130400-1711137600@participaenergia.com
SUMMARY:Charla de Difusión en Peñaflor de Gállego
DESCRIPTION:
URL:https://participaenergia.com/evento/charla-de-difusion-en-penaflor-de-gallego/
LOCATION:Centro Cívico Peñaflor\, c/ La Tajada\, 11\, Peñaflor de Gállego\, Zaragoza\, 50193\, Spain
CATEGORIES:Eventos de la OTC Participa Energía
ATTACH;FMTTYPE=image/svg+xml:https://participaenergia.com/wp-content/uploads/2023/11/difusion.svg
END:VEVENT
BEGIN:VEVENT
DTSTART;TZID=UTC:20240323T110000
DTEND;TZID=UTC:20240323T130000
DTSTAMP:20260423T212430
CREATED:20240219T133821Z
LAST-MODIFIED:20240219T133821Z
UID:626-1711191600-1711198800@participaenergia.com
SUMMARY:Charla de Difusión en Masegoso de Tajuña
DESCRIPTION:
URL:https://participaenergia.com/evento/charla-de-difusion-en-masegoso-de-tajuna/
LOCATION:Salón de Plenos del Ayuntamiento\, Plaza Mayor 1\, Masegoso de Tajuña\, Guadalajara\, 19490\, España
CATEGORIES:Eventos de la OTC Participa Energía
ATTACH;FMTTYPE=image/svg+xml:https://participaenergia.com/wp-content/uploads/2023/11/difusion.svg
END:VEVENT
BEGIN:VEVENT
DTSTART;TZID=UTC:20240323T170000
DTEND;TZID=UTC:20240323T190000
DTSTAMP:20260423T212430
CREATED:20240219T134538Z
LAST-MODIFIED:20240219T134538Z
UID:630-1711213200-1711220400@participaenergia.com
SUMMARY:Charla de Difusión en Gualda
DESCRIPTION:
URL:https://participaenergia.com/evento/charla-de-difusion-en-gualda/
LOCATION:Ayuntamiento de EATIM de Gualda\, Plaza de la Constitución I\, Gualda\, Guadalajara\, 19459\, España
CATEGORIES:Eventos de la OTC Participa Energía
ATTACH;FMTTYPE=image/svg+xml:https://participaenergia.com/wp-content/uploads/2023/11/difusion.svg
END:VEVENT
END:VCALENDAR