BEGIN:VCALENDAR
VERSION:2.0
PRODID:-//Participa energía - ECPv6.15.20//NONSGML v1.0//EN
CALSCALE:GREGORIAN
METHOD:PUBLISH
X-ORIGINAL-URL:https://participaenergia.com
X-WR-CALDESC:Eventos para Participa energía
REFRESH-INTERVAL;VALUE=DURATION:PT1H
X-Robots-Tag:noindex
X-PUBLISHED-TTL:PT1H
BEGIN:VTIMEZONE
TZID:UTC
BEGIN:STANDARD
TZOFFSETFROM:+0000
TZOFFSETTO:+0000
TZNAME:UTC
DTSTART:20230101T000000
END:STANDARD
END:VTIMEZONE
BEGIN:VEVENT
DTSTART;TZID=UTC:20240508T180000
DTEND;TZID=UTC:20240508T200000
DTSTAMP:20260423T231543
CREATED:20240409T125014Z
LAST-MODIFIED:20240409T125118Z
UID:719-1715191200-1715198400@participaenergia.com
SUMMARY:Charla en la Comarca del Sobrarbe
DESCRIPTION:
URL:https://participaenergia.com/evento/charla-en-la-comarca-del-sobrarbe/
LOCATION:Salón de Actos Pedro Santorromán\, Avda. de Ordesa 79\, Boltaña\, Huesca\, 22340\, España
CATEGORIES:Eventos de la OTC Participa Energía
ATTACH;FMTTYPE=image/svg+xml:https://participaenergia.com/wp-content/uploads/2023/11/difusion.svg
END:VEVENT
BEGIN:VEVENT
DTSTART;TZID=UTC:20240608T110000
DTEND;TZID=UTC:20240608T130000
DTSTAMP:20260423T231543
CREATED:20240510T113826Z
LAST-MODIFIED:20240510T113826Z
UID:742-1717844400-1717851600@participaenergia.com
SUMMARY:Charla en Villar de los Navarros
DESCRIPTION:
URL:https://participaenergia.com/evento/charla-en-villar-de-los-navarros/
LOCATION:Local del Horno\, c/ Lafuente\, Villar de los Navarros\, Zaragoza\, 50156\, España
CATEGORIES:Eventos de la OTC Participa Energía
ATTACH;FMTTYPE=image/svg+xml:https://participaenergia.com/wp-content/uploads/2023/11/difusion.svg
END:VEVENT
BEGIN:VEVENT
DTSTART;TZID=UTC:20240621T180000
DTEND;TZID=UTC:20240621T200000
DTSTAMP:20260423T231543
CREATED:20240213T145036Z
LAST-MODIFIED:20240213T150022Z
UID:596-1718992800-1719000000@participaenergia.com
SUMMARY:Charla de Difusión en El Casar
DESCRIPTION:
URL:https://participaenergia.com/evento/charla-de-difusion-en-el-casar/
LOCATION:Biblioteca Pública Municipal de El Casar\, Avenida de los Maestros 2\, El Casar\, Guadalajara\, 19170\, España
CATEGORIES:Eventos de la OTC Participa Energía
ATTACH;FMTTYPE=image/svg+xml:https://participaenergia.com/wp-content/uploads/2023/11/difusion.svg
END:VEVENT
BEGIN:VEVENT
DTSTART;TZID=UTC:20240623T110000
DTEND;TZID=UTC:20240623T130000
DTSTAMP:20260423T231543
CREATED:20240704T072312Z
LAST-MODIFIED:20240704T072312Z
UID:780-1719140400-1719147600@participaenergia.com
SUMMARY:Charla de Difusión Torrejón del Rey
DESCRIPTION:
URL:https://participaenergia.com/evento/charla-de-difusion-torrejon-del-rey/
LOCATION:Parque de las Castillas\, c/ Castillo de Ribadavia s/n\, Torrejón del Rey\, Guadalajara\, 19174\, España
CATEGORIES:Eventos de la OTC Participa Energía
ATTACH;FMTTYPE=image/svg+xml:https://participaenergia.com/wp-content/uploads/2023/11/difusion.svg
END:VEVENT
BEGIN:VEVENT
DTSTART;TZID=UTC:20240704T190000
DTEND;TZID=UTC:20240704T210000
DTSTAMP:20260423T231543
CREATED:20240704T074837Z
LAST-MODIFIED:20240704T074837Z
UID:784-1720119600-1720126800@participaenergia.com
SUMMARY:Charla de Difusión en Mosqueruela
DESCRIPTION:
URL:https://participaenergia.com/evento/charla-de-difusion-en-mosqueruela/
LOCATION:Local Santa Engracia\, c/Santa Engracia 1\, Mosqueruela\, Teruel\, 44410\, España
CATEGORIES:Eventos de la OTC Participa Energía
ATTACH;FMTTYPE=image/svg+xml:https://participaenergia.com/wp-content/uploads/2023/11/difusion.svg
END:VEVENT
BEGIN:VEVENT
DTSTART;TZID=UTC:20240706T180000
DTEND;TZID=UTC:20240706T200000
DTSTAMP:20260423T231543
CREATED:20240704T075400Z
LAST-MODIFIED:20240704T075400Z
UID:788-1720288800-1720296000@participaenergia.com
SUMMARY:Charla de Difusión en La Codoñera
DESCRIPTION:
URL:https://participaenergia.com/evento/charla-de-difusion-en-la-codonera/
LOCATION:Salón de la Cultura\, La Codoñera\, Teruel\, 44640\, España
CATEGORIES:Eventos de la OTC Participa Energía
ATTACH;FMTTYPE=image/svg+xml:https://participaenergia.com/wp-content/uploads/2023/11/difusion.svg
END:VEVENT
BEGIN:VEVENT
DTSTART;TZID=UTC:20240711T190000
DTEND;TZID=UTC:20240711T210000
DTSTAMP:20260423T231543
CREATED:20240704T075911Z
LAST-MODIFIED:20240704T075911Z
UID:792-1720724400-1720731600@participaenergia.com
SUMMARY:Charla de Difusión en Calaceite
DESCRIPTION:
URL:https://participaenergia.com/evento/charla-de-difusion-en-calaceite/
LOCATION:Teatro Municipal\, c/ d´en Bellosta\, 8-12\, Calaceite\, Teruel\, 44610\, España
CATEGORIES:Eventos de la OTC Participa Energía
ATTACH;FMTTYPE=image/svg+xml:https://participaenergia.com/wp-content/uploads/2023/11/difusion.svg
END:VEVENT
BEGIN:VEVENT
DTSTART;TZID=UTC:20240820T200000
DTEND;TZID=UTC:20240820T220000
DTSTAMP:20260423T231543
CREATED:20240704T080422Z
LAST-MODIFIED:20240704T080422Z
UID:796-1724184000-1724191200@participaenergia.com
SUMMARY:Charla de Difusión en Laspuña
DESCRIPTION:
URL:https://participaenergia.com/evento/charla-de-difusion-en-laspuna/
LOCATION:Salón Social del Ayuntamiento de Laspuña\, c/Bellavista\, 1\, Laspuña\, Huesca\, 22361\, España
CATEGORIES:Eventos de la OTC Participa Energía
ATTACH;FMTTYPE=image/svg+xml:https://participaenergia.com/wp-content/uploads/2023/11/difusion.svg
END:VEVENT
BEGIN:VEVENT
DTSTART;TZID=UTC:20240913T113000
DTEND;TZID=UTC:20240913T113000
DTSTAMP:20260423T231543
CREATED:20240926T091810Z
LAST-MODIFIED:20240926T103718Z
UID:826-1726227000-1726227000@participaenergia.com
SUMMARY:Sesión Informativa Convocatorias #1
DESCRIPTION:No te pierdas nuestro webinar sobre las convocatorias abiertas disponibles para comunidades energéticas. Desgranaremos la información clave de: \n– V y VI Programa CE Implementa\, dirigido a Comunidades Energéticas\, del IDAE\n– Subvenciones para Sociedades Cooperativas en Aragón\, 2024\, del Gobierno de Aragón \nSesión Online a través de Zoom: https://us06web.zoom.us/j/81954155613?pwd=5jIglk6bX8jpdwhmnoKVKheenzwMue.1
URL:https://participaenergia.com/evento/sesion-informativa/
LOCATION:ENDEF\, Polígono Ciudad del Transporte C/PA nº11\, Zaragoza\, San Juan de Mozarrifar\, 50820\, España
CATEGORIES:Eventos de la OTC Participa Energía
ATTACH;FMTTYPE=image/png:https://participaenergia.com/wp-content/uploads/2024/09/Webinar-Convocatorias.png
END:VEVENT
BEGIN:VEVENT
DTSTART;TZID=UTC:20240924T173000
DTEND;TZID=UTC:20240924T183000
DTSTAMP:20260423T231543
CREATED:20240926T092724Z
LAST-MODIFIED:20240926T092724Z
UID:832-1727199000-1727202600@participaenergia.com
SUMMARY:Sesión Informativa Convocatorias #2
DESCRIPTION:No te pierdas nuestro webinar sobre las convocatorias abiertas disponibles para comunidades energéticas. Desgranaremos la información clave de: \n– V y VI Programa CE Implementa\, dirigido a Comunidades Energéticas\, del IDAE\n– Subvenciones para Sociedades Cooperativas en Aragón\, 2024\, del Gobierno de Aragón \nSesión Online a través de Zoom: https://us06web.zoom.us/j/83586002049?pwd=iHLQq66oRERWhDrjWv1bJRBEfFrZXv.1
URL:https://participaenergia.com/evento/sesion-informativa-convocatorias-2/
LOCATION:ENDEF\, Polígono Ciudad del Transporte C/PA nº11\, Zaragoza\, San Juan de Mozarrifar\, 50820\, España
CATEGORIES:Eventos de la OTC Participa Energía
ATTACH;FMTTYPE=image/png:https://participaenergia.com/wp-content/uploads/2024/09/Segundo-Webinar-Convocatorias.png
END:VEVENT
BEGIN:VEVENT
DTSTART;TZID=UTC:20241019T110000
DTEND;TZID=UTC:20241019T130000
DTSTAMP:20260423T231543
CREATED:20241028T125104Z
LAST-MODIFIED:20241028T125147Z
UID:839-1729335600-1729342800@participaenergia.com
SUMMARY:Charla de Difusión en Molinos
DESCRIPTION:
URL:https://participaenergia.com/evento/charla-de-difusion-en-molinos/
LOCATION:ADEMA\, c/ Pueyo 33\, Molinos\, Teruel\, 44556\, Spain
CATEGORIES:Eventos de la OTC Participa Energía
ATTACH;FMTTYPE=image/png:https://participaenergia.com/wp-content/uploads/2024/03/difusion-1.png
END:VEVENT
BEGIN:VEVENT
DTSTART;TZID=UTC:20241024T090000
DTEND;TZID=UTC:20241025T190000
DTSTAMP:20260423T231543
CREATED:20241028T145551Z
LAST-MODIFIED:20241028T145631Z
UID:872-1729760400-1729882800@participaenergia.com
SUMMARY:Jornadas de escucha a la Ciencia y al Territorio “¿Transición ecológica o especulación energética? Hagamos las cosas bien”
DESCRIPTION:La Alianza Energía y Territorio -ALIENTE- y la Universidad Pablo de Olavide de Sevilla -UPO-\, a través del Plan Complementario de Biodiversidad de CEI-CamBio y el Proyecto CoNECT1\, organizan estas jornadas “de Escucha a la Ciencia y el Territorio” con el objetivo de realizar un análisis en profundidad del actual proceso de transición energética y del despliegue de energías renovables en nuestro país. Con el propósito de conseguir una transición energética justa y democrática\, es importante identificar los problemas que dicho despliegue\, masivo y desordenado\, está causando en el mundo rural\, en el paisaje y en la biodiversidad\, así como proponer soluciones a los mismos. Así\, se pretende hacer oír la voz de la ciencia y de los territorios: de científicos\, técnicos\, asociaciones\, plataformas\, ayuntamientos\, y de ciudadanos de la España rural y la mal llamada “España vaciada”. \nEn las mesas se abordará una amplia gama de problemas relativos al impacto ambiental\, el deterioro del paisaje\, el empleo\, la agricultura\, la producción y la eficiencia energética. Posteriormente\, se explorarán propuestas de soluciones mostrando casos de éxito que van desde la planificación/ordenación del territorio\, a las ubicaciones en suelos degradados/humanizados y el desarrollo de comunidades energéticas. \nLas jornadas se llevarán a cabo de forma presencial en la Universidad Pablo de Olavide de Sevilla\, los días 24 y 25 de octubre\, en el aula B11 del edificio 45. La participación podrá también hacerse online; se podrán seguir por streaming y se grabarán para su posterior difusión en los medios de comunicación y redes sociales. \nJornadas de Escucha a la Ciencia y al Territorio
URL:https://participaenergia.com/evento/jornadas-de-escucha-a-la-ciencia-y-al-territorio/
LOCATION:Universidad Pablo de Olavide\, Carretera de Utrera\, nº1\, Sevilla\, Sevilla\, 41013\, Spain
CATEGORIES:Eventos de la OTC Participa Energía
ATTACH;FMTTYPE=image/png:https://participaenergia.com/wp-content/uploads/2024/10/RenovablesAsiSi.png
END:VEVENT
BEGIN:VEVENT
DTSTART;TZID=UTC:20241025T110000
DTEND;TZID=UTC:20241025T133000
DTSTAMP:20260423T231543
CREATED:20241028T141212Z
LAST-MODIFIED:20241028T141212Z
UID:861-1729854000-1729863000@participaenergia.com
SUMMARY:Jornada del Proyecto Jalón
DESCRIPTION:Presentamos la Jornada del Proyecto JALÓN: Desarrollando la mayor comunidad energética comarcal de Europa\, donde expertos en energía renovable presentarán el innovador modelo de CERCAENERGIA \, la mayor comunidad energética comarcal de Europa. \nTambién lanzarán el Challenge Jalón\, que invita a nuevos territorios a unirse a la soberanía energética.
URL:https://participaenergia.com/evento/jornada-del-proyecto-jalon/
LOCATION:Aula Magna Paraninfo de la Universidad de Zaragoza\, Paseo de Pamplona\, nº4\, Zaragoza\, Zaragoza\, 50005\, Spain
CATEGORIES:Eventos de la OTC Participa Energía
ATTACH;FMTTYPE=image/png:https://participaenergia.com/wp-content/uploads/2024/10/Proyecto-Jalon.png
END:VEVENT
BEGIN:VEVENT
DTSTART;TZID=UTC:20241028T180000
DTEND;TZID=UTC:20241028T200000
DTSTAMP:20260423T231543
CREATED:20241028T143552Z
LAST-MODIFIED:20241028T143552Z
UID:866-1730138400-1730145600@participaenergia.com
SUMMARY:Jornada sobre Comunidades Energéticas y Economía Social
DESCRIPTION:La Asociación de Economía Social de Aragón (CEPES Aragón) organiza el próximo lunes 28 de octubre en horario de 18:00 a 20:00 la Jornada Comunidades Energéticas y Economía Social con el apoyo de Fundación EDP. \nLa jornada se desarrollará en el Centro Joaquín Roncal de Fundación CAI en Zaragoza y tendrá acceso libre hasta completarse aforo presencial\, y la posibilidad de conectarse en streaming a partir del enlace que aparece en la carteleria de la jornada. \nDurante la jornada habrá dos mesas de dialogo\, la primera\, moderada por Anabel García de Nabata\, y centrada en las Oficinas de Transformación Comunitaria (OTC)\, en la que participarán Teresa Artigas de la OTC Participa Energía\, Carlos Pesqué de la OTC Energía Común\, Victor Ballestin de la OTC Zaragoza y Javier Hernandez de la OTC Aragón Energía Propia. \nY la segunda\, moderada por María Navarro de Luco Energía tratará acerca de las diferentes experiencias de Comunidades Energéticas en Aragón\, y contaremos con Paula Delmas\, Alcaldesa de Monforte de Moyuela\, en representación de Montefuerte Solar\, Aitor De la Torre de la comunidad energética del barrio Oliver de Zaragoza\, Laura Aguado de la comunidad energética de Mozota\, Maite Espiau de la comunidad energética de Peñaflor\, y Yolanda Gimeno de CERCA energía. \nLa clausura la realizará Juan García-Ovies Sarandeses de Fundación EDP.
URL:https://participaenergia.com/evento/jornada-sobre-comunidades-energeticas-y-economia-social/
LOCATION:Centro Joaquín Roncal\, c/ San Braulio 5\, Zaragoza\, Zaragoza\, 50003\, Spain
CATEGORIES:Eventos de la OTC Participa Energía,Eventos de las otras OTC
ATTACH;FMTTYPE=image/png:https://participaenergia.com/wp-content/uploads/2024/10/CE-ESS-2.png
END:VEVENT
BEGIN:VEVENT
DTSTART;TZID=UTC:20241031T190000
DTEND;TZID=UTC:20241031T210000
DTSTAMP:20260423T231543
CREATED:20241028T125731Z
LAST-MODIFIED:20241028T125731Z
UID:844-1730401200-1730408400@participaenergia.com
SUMMARY:Charla de Difusión en Allepuz
DESCRIPTION:
URL:https://participaenergia.com/evento/charla-de-difusion-en-allepuz/
LOCATION:Ayuntamiento de Allepuz\, Plaza del Ayuntamiento nº1\, Allepuz\, Teruel\, 44145\, Spain
CATEGORIES:Eventos de la OTC Participa Energía
ATTACH;FMTTYPE=image/png:https://participaenergia.com/wp-content/uploads/2024/03/difusion-1.png
END:VEVENT
BEGIN:VEVENT
DTSTART;TZID=UTC:20241105T190000
DTEND;TZID=UTC:20241105T213000
DTSTAMP:20260423T231543
CREATED:20241030T115614Z
LAST-MODIFIED:20241030T115710Z
UID:879-1730833200-1730842200@participaenergia.com
SUMMARY:Charla de Difusión en María de Huerva
DESCRIPTION:
URL:https://participaenergia.com/evento/charla-de-difusion-en-maria-de-huerva/
LOCATION:Pabellón Multiusos Santa Bárbara\, Cam. del Río\, María de Huerva\, Zaragoza\, 50430\, Spain
CATEGORIES:Eventos de la OTC Participa Energía
ATTACH;FMTTYPE=image/svg+xml:https://participaenergia.com/wp-content/uploads/2023/11/difusion.svg
END:VEVENT
BEGIN:VEVENT
DTSTART;TZID=UTC:20241109T120000
DTEND;TZID=UTC:20241109T140000
DTSTAMP:20260423T231543
CREATED:20241028T130405Z
LAST-MODIFIED:20241028T130405Z
UID:849-1731153600-1731160800@participaenergia.com
SUMMARY:Charla de Difusión en Zarzuela de Jadraque
DESCRIPTION:
URL:https://participaenergia.com/evento/charla-de-difusion-en-zarzuela-de-jadraque/
LOCATION:Casa del Plantío\, Zarzuela de Jadraque\, Guadalajara\, 19237\, Spain
CATEGORIES:Eventos de la OTC Participa Energía
ATTACH;FMTTYPE=image/svg+xml:https://participaenergia.com/wp-content/uploads/2023/11/difusion.svg
END:VEVENT
BEGIN:VEVENT
DTSTART;TZID=UTC:20241109T180000
DTEND;TZID=UTC:20241109T203000
DTSTAMP:20260423T231543
CREATED:20241028T135054Z
LAST-MODIFIED:20241028T143736Z
UID:853-1731175200-1731184200@participaenergia.com
SUMMARY:Charla de Difusión en Albendiego
DESCRIPTION:
URL:https://participaenergia.com/evento/charla-de-difusion-en-albendiego/
LOCATION:Ayuntamiento de Albendiego\, c/La Plaza s/n\, Albendiego\, Guadalajara\, 19275\, Spain
CATEGORIES:Eventos de la OTC Participa Energía
ATTACH;FMTTYPE=image/svg+xml:https://participaenergia.com/wp-content/uploads/2023/11/difusion.svg
END:VEVENT
BEGIN:VEVENT
DTSTART;TZID=UTC:20241113T160000
DTEND;TZID=UTC:20241113T173000
DTSTAMP:20260423T231543
CREATED:20241107T111918Z
LAST-MODIFIED:20241107T111918Z
UID:906-1731513600-1731519000@participaenergia.com
SUMMARY:Jornada Informativa OTC Aragón Energía Propia
DESCRIPTION:
URL:https://participaenergia.com/evento/jornada-informativa-otc-aragon-energia-propia/
LOCATION:Sede Comarcal La Jacetania\, C. Ferrocarril\, S/N\, Jaca\, Huesca\, 22700\, Spain
CATEGORIES:Eventos de las otras OTC
ATTACH;FMTTYPE=image/png:https://participaenergia.com/wp-content/uploads/2024/11/Aragon-Energia-Propia.png
ORGANIZER;CN="OTC Arag%C3%B3n Energ%C3%ADa Propia":MAILTO:info@comunidadenergeticaaragon.es
END:VEVENT
BEGIN:VEVENT
DTSTART;TZID=UTC:20241129T110000
DTEND;TZID=UTC:20241129T133000
DTSTAMP:20260423T231543
CREATED:20241115T113709Z
LAST-MODIFIED:20241115T113709Z
UID:917-1732878000-1732887000@participaenergia.com
SUMMARY:Charla de Difusión en Trijueque
DESCRIPTION:
URL:https://participaenergia.com/evento/charla-de-difusion-en-trijueque/
LOCATION:Sala de Plenos del Ayuntamiento de Trijueque\, Plaza Mayor\, 5\, Trijueque\, Guadalajara\, 19192\, Spain
CATEGORIES:Eventos de la OTC Participa Energía
ATTACH;FMTTYPE=image/svg+xml:https://participaenergia.com/wp-content/uploads/2023/11/difusion.svg
END:VEVENT
BEGIN:VEVENT
DTSTART;TZID=UTC:20241210T190000
DTEND;TZID=UTC:20241210T210000
DTSTAMP:20260423T231543
CREATED:20241115T114311Z
LAST-MODIFIED:20241115T114311Z
UID:921-1733857200-1733864400@participaenergia.com
SUMMARY:Charla de Difusión en Valdealgorfa
DESCRIPTION:
URL:https://participaenergia.com/evento/charla-de-difusion-en-valdealgorfa/
LOCATION:Salón Don Diego\, Valdealgorfa\, Teruel\, 44594\, Spain
CATEGORIES:Eventos de la OTC Participa Energía
ATTACH;FMTTYPE=image/svg+xml:https://participaenergia.com/wp-content/uploads/2023/11/difusion.svg
END:VEVENT
BEGIN:VEVENT
DTSTART;TZID=UTC:20241214T113000
DTEND;TZID=UTC:20241214T130000
DTSTAMP:20260423T231543
CREATED:20241115T115112Z
LAST-MODIFIED:20241115T115112Z
UID:925-1734175800-1734181200@participaenergia.com
SUMMARY:Acompañamiento en Masegoso de Tajuña
DESCRIPTION:Taller dirigido al grupo motor con el objetivo de acordar los siguientes pasos a tomar para hacer realidad la comunidad energética en Masegoso de Tajuña.
URL:https://participaenergia.com/evento/acompanamiento-en-masegoso-de-tajuna/
LOCATION:Salón de Plenos del Ayuntamiento de Masegoso de Tajuña\, Plaza Mayor\, 1\, Masegoso de Tajuña\, Guadalajara\, 19490\, Spain
CATEGORIES:Eventos de la OTC Participa Energía
ATTACH;FMTTYPE=image/svg+xml:https://participaenergia.com/wp-content/uploads/2023/11/acompanamiento.svg
END:VEVENT
BEGIN:VEVENT
DTSTART;TZID=UTC:20250114T183000
DTEND;TZID=UTC:20250114T203000
DTSTAMP:20260423T231543
CREATED:20241218T160843Z
LAST-MODIFIED:20241218T161426Z
UID:950-1736879400-1736886600@participaenergia.com
SUMMARY:Charla de Difusión en Juslibol
DESCRIPTION:
URL:https://participaenergia.com/evento/charla-de-difusion-en-juslibol/
LOCATION:Centro Cívico Juslibol (sala polivante)\, c/Mayor\, 8\, Zaragoza\, Zaragoza\, 50191\, Spain
CATEGORIES:Eventos de la OTC Participa Energía
ATTACH;FMTTYPE=image/svg+xml:https://participaenergia.com/wp-content/uploads/2023/11/difusion.svg
END:VEVENT
BEGIN:VEVENT
DTSTART;TZID=UTC:20250125T173000
DTEND;TZID=UTC:20250125T190000
DTSTAMP:20260423T231543
CREATED:20241218T161337Z
LAST-MODIFIED:20241218T161337Z
UID:954-1737826200-1737831600@participaenergia.com
SUMMARY:Charla de Difusión en Trasobares
DESCRIPTION:
URL:https://participaenergia.com/evento/charla-de-difusion-en-trasobares/
LOCATION:Ayuntamiento de Trasobares (bajo)\, c/Mayor\, 1\, Trasobares\, Zaragoza\, 50268\, Spain
CATEGORIES:Eventos de la OTC Participa Energía
ATTACH;FMTTYPE=image/svg+xml:https://participaenergia.com/wp-content/uploads/2023/11/difusion.svg
END:VEVENT
BEGIN:VEVENT
DTSTART;TZID=UTC:20250221T190000
DTEND;TZID=UTC:20250221T210000
DTSTAMP:20260423T231543
CREATED:20250219T094050Z
LAST-MODIFIED:20250219T094050Z
UID:977-1740164400-1740171600@participaenergia.com
SUMMARY:Charla de Difusión en Almonacid
DESCRIPTION:Salón de actos de La Casa de Cultura\, Almonacid de la Sierra
URL:https://participaenergia.com/evento/charla-de-difusion-en-almonacid/
END:VEVENT
BEGIN:VEVENT
DTSTART;TZID=UTC:20250318T183000
DTEND;TZID=UTC:20250318T210000
DTSTAMP:20260423T231543
CREATED:20250319T104838Z
LAST-MODIFIED:20250319T104930Z
UID:980-1742322600-1742331600@participaenergia.com
SUMMARY:Taller Técnico Juslibol
DESCRIPTION:Centro cívico Juslibol
URL:https://participaenergia.com/evento/taller-tecnico-juslibol/
END:VEVENT
BEGIN:VEVENT
DTSTART;TZID=UTC:20250326T190000
DTEND;TZID=UTC:20250326T210000
DTSTAMP:20260423T231543
CREATED:20250319T105148Z
LAST-MODIFIED:20250319T105148Z
UID:983-1743015600-1743022800@participaenergia.com
SUMMARY:Taller Técnico Masegoso
DESCRIPTION:Reunión online
URL:https://participaenergia.com/evento/taller-tecnico-masegoso/
LOCATION:ENDEF\, Polígono Ciudad del Transporte C/PA nº11\, Zaragoza\, San Juan de Mozarrifar\, 50820\, España
END:VEVENT
BEGIN:VEVENT
DTSTART;TZID=UTC:20250411T183000
DTEND;TZID=UTC:20250411T200000
DTSTAMP:20260423T231543
CREATED:20250409T125406Z
LAST-MODIFIED:20250409T125406Z
UID:1021-1744396200-1744401600@participaenergia.com
SUMMARY:Taller Técnico Valdeargorfa
DESCRIPTION:
URL:https://participaenergia.com/evento/taller-tecnico-valdeargorfa/
END:VEVENT
BEGIN:VEVENT
DTSTART;TZID=UTC:20250517T103000
DTEND;TZID=UTC:20250517T213000
DTSTAMP:20260423T231543
CREATED:20250502T145606Z
LAST-MODIFIED:20250521T143711Z
UID:1060-1747477800-1747517400@participaenergia.com
SUMMARY:Encuentro de Comunidades Energéticas
DESCRIPTION:Puedes inscribirte en este enlace.
URL:https://participaenergia.com/evento/encuentro-de-comunidades-energeticas/
LOCATION:Luco de Jiloca\, c/ San Pascual 2\, Luco de Jiloca\, Teruel\, 44391\, Spain
CATEGORIES:Eventos de la OTC Participa Energía
ATTACH;FMTTYPE=image/jpeg:https://participaenergia.com/wp-content/uploads/2025/05/Encuentro-Comunidades-Energeticas_Cartel.jpg
END:VEVENT
BEGIN:VEVENT
DTSTART;TZID=UTC:20250528T160000
DTEND;TZID=UTC:20250529T193000
DTSTAMP:20260423T231543
CREATED:20250612T124408Z
LAST-MODIFIED:20250612T135143Z
UID:1156-1748448000-1748547000@participaenergia.com
SUMMARY:IV Foro Iberoamericano de Economía Social
DESCRIPTION:PRESENTACIÓN\nEl IV Foro Iberoamericano de Economía Social se posiciona como un espacio fundamental para reflexionar y actuar sobre los grandes desafíos de nuestro tiempo\, consolidándose como una plataforma de diálogo\, innovación y cooperación. En esta edición de 2025\, el foro pone el foco en las comunidades energéticas y su rol transformador en la lucha contra el cambio climático y la desigualdad en el acceso a la energía. \n\n\nVivimos un momento crítico que demanda una transición urgente hacia modelos energéticos sostenibles y equitativos. Las comunidades energéticas\, caracterizadas por su enfoque participativo\, descentralizado y basado en principios de la economía social y solidaria\, representan una alternativa innovadora y efectiva. Estas iniciativas no solo buscan garantizar un suministro energético limpio y resiliente\, sino también promueven la equidad social\, el empoderamiento comunitario y la cohesión territorial. \nLas organizaciones de la economía social reconocen la urgencia de abordar la crisis climática desde soluciones integrales e inclusivas que respondan a las necesidades de todas las personas\, especialmente de aquellas más vulnerables. Siguiendo la línea marcada en el anterior foro\, que enfatizó el liderazgo femenino frente al cambio climático\, en esta ocasión ampliamos la mirada hacia el papel de la energía comunitaria como motor de transformación social. \n\n\n\n\n\nEl IV Foro Iberoamericano de Economía Social congregará a académicas\, profesionales del sector energético\, representantes de comunidades locales\, organismos políticos y entidades no gubernamentales. A través de un enfoque multidisciplinario\, se promoverá el intercambio de conocimientos\, experiencias y buenas prácticas\, con el objetivo de catalizar acciones concretas que impulsen modelos energéticos inclusivos y sostenibles. \nDesde su creación en 2002\, la Escuela Andaluza de Economía Social ha desarrollado un sinfín de actividades orientadas a fortalecer alianzas\, fomentar la intercooperación y promover prácticas innovadoras desde un modelo solidario y democrático. En cada edición\, los foros han servido como espacio para construir redes de colaboración en torno a los Objetivos de Desarrollo Sostenible (ODS)\, posicionando a la economía social como un actor clave para enfrentar los desafíos globales.
URL:https://participaenergia.com/evento/iv-foro-iberoamericano-de-economia-social/
LOCATION:OSUNA. Espacio de Economía Social\, Plaza La Merced\, s/n\, Osuna\, Sevilla\, 41640\, Spain
CATEGORIES:Eventos de la OTC Participa Energía,Eventos de las otras OTC
ATTACH;FMTTYPE=image/png:https://participaenergia.com/wp-content/uploads/2025/06/Captura-de-pantalla-2025-06-12-143026.png
END:VEVENT
END:VCALENDAR