BEGIN:VCALENDAR
VERSION:2.0
PRODID:-//Participa energía - ECPv6.15.20//NONSGML v1.0//EN
CALSCALE:GREGORIAN
METHOD:PUBLISH
X-WR-CALNAME:Participa energía
X-ORIGINAL-URL:https://participaenergia.com
X-WR-CALDESC:Eventos para Participa energía
REFRESH-INTERVAL;VALUE=DURATION:PT1H
X-Robots-Tag:noindex
X-PUBLISHED-TTL:PT1H
BEGIN:VTIMEZONE
TZID:UTC
BEGIN:STANDARD
TZOFFSETFROM:+0000
TZOFFSETTO:+0000
TZNAME:UTC
DTSTART:20230101T000000
END:STANDARD
END:VTIMEZONE
BEGIN:VEVENT
DTSTART;TZID=UTC:20241019T110000
DTEND;TZID=UTC:20241019T130000
DTSTAMP:20260423T164906
CREATED:20241028T125104Z
LAST-MODIFIED:20241028T125147Z
UID:839-1729335600-1729342800@participaenergia.com
SUMMARY:Charla de Difusión en Molinos
DESCRIPTION:
URL:https://participaenergia.com/evento/charla-de-difusion-en-molinos/
LOCATION:ADEMA\, c/ Pueyo 33\, Molinos\, Teruel\, 44556\, Spain
CATEGORIES:Eventos de la OTC Participa Energía
ATTACH;FMTTYPE=image/png:https://participaenergia.com/wp-content/uploads/2024/03/difusion-1.png
END:VEVENT
END:VCALENDAR