BEGIN:VCALENDAR
VERSION:2.0
PRODID:-//Participa energía - ECPv6.15.20//NONSGML v1.0//EN
CALSCALE:GREGORIAN
METHOD:PUBLISH
X-ORIGINAL-URL:https://participaenergia.com
X-WR-CALDESC:Eventos para Participa energía
REFRESH-INTERVAL;VALUE=DURATION:PT1H
X-Robots-Tag:noindex
X-PUBLISHED-TTL:PT1H
BEGIN:VTIMEZONE
TZID:UTC
BEGIN:STANDARD
TZOFFSETFROM:+0000
TZOFFSETTO:+0000
TZNAME:UTC
DTSTART:20230101T000000
END:STANDARD
END:VTIMEZONE
BEGIN:VEVENT
DTSTART;TZID=UTC:20240504T110000
DTEND;TZID=UTC:20240504T130000
DTSTAMP:20260423T193505
CREATED:20240402T152333Z
LAST-MODIFIED:20240402T152333Z
UID:714-1714820400-1714827600@participaenergia.com
SUMMARY:Charla de Difusión en Ababuj
DESCRIPTION:
URL:https://participaenergia.com/evento/charla-de-difusion-en-ababuj/
LOCATION:Frontón en Ababuj\, Ababuj\, Teruel\, 44155\, España
CATEGORIES:Eventos de la OTC Participa Energía
END:VEVENT
BEGIN:VEVENT
DTSTART;TZID=UTC:20240504T110000
DTEND;TZID=UTC:20240504T130000
DTSTAMP:20260423T193505
CREATED:20240510T121015Z
LAST-MODIFIED:20240510T121015Z
UID:750-1714820400-1714827600@participaenergia.com
SUMMARY:Acompañamiento II: Mozota
DESCRIPTION:Acompañamos a las personas interesadas en unirse a la comunidad energética de Mozota con nuestros talleres de procesos participativos.
URL:https://participaenergia.com/evento/acompanamiento-ii-mozota/
LOCATION:Mozota\, Mozota\, Zaragoza\, 50440\, España
CATEGORIES:Eventos de la OTC Participa Energía
ATTACH;FMTTYPE=image/svg+xml:https://participaenergia.com/wp-content/uploads/2023/11/acompanamiento.svg
END:VEVENT
END:VCALENDAR