BEGIN:VCALENDAR
VERSION:2.0
PRODID:-//Participa energía - ECPv6.15.20//NONSGML v1.0//EN
CALSCALE:GREGORIAN
METHOD:PUBLISH
X-ORIGINAL-URL:https://participaenergia.com
X-WR-CALDESC:Eventos para Participa energía
REFRESH-INTERVAL;VALUE=DURATION:PT1H
X-Robots-Tag:noindex
X-PUBLISHED-TTL:PT1H
BEGIN:VTIMEZONE
TZID:UTC
BEGIN:STANDARD
TZOFFSETFROM:+0000
TZOFFSETTO:+0000
TZNAME:UTC
DTSTART:20230101T000000
END:STANDARD
END:VTIMEZONE
BEGIN:VEVENT
DTSTART;TZID=UTC:20240417T180000
DTEND;TZID=UTC:20240417T200000
DTSTAMP:20260423T212224
CREATED:20240315T130533Z
LAST-MODIFIED:20240315T130533Z
UID:669-1713376800-1713384000@participaenergia.com
SUMMARY:Presentación Escuela Energía Común en las comarcas de La Litera\, Bajo Cinca y Cinca medio
DESCRIPTION:Energía Común es una iniciativa de ECODES dirigida a generar un espacio para el conocimiento\, el intercambio de experiencias\, la creación de redes y la inteligencia colectiva que fomente la creación de comunidades energéticas con impacto ambiental y social.
URL:https://participaenergia.com/evento/presentacion-escuela-energia-comun-en-las-comarcas-de-la-litera-bajo-cinca-y-cinca-medio/
CATEGORIES:Eventos de las otras OTC
END:VEVENT
END:VCALENDAR