BEGIN:VCALENDAR
VERSION:2.0
PRODID:-//Participa energía - ECPv6.15.20//NONSGML v1.0//EN
CALSCALE:GREGORIAN
METHOD:PUBLISH
X-WR-CALNAME:Participa energía
X-ORIGINAL-URL:https://participaenergia.com
X-WR-CALDESC:Eventos para Participa energía
REFRESH-INTERVAL;VALUE=DURATION:PT1H
X-Robots-Tag:noindex
X-PUBLISHED-TTL:PT1H
BEGIN:VTIMEZONE
TZID:UTC
BEGIN:STANDARD
TZOFFSETFROM:+0000
TZOFFSETTO:+0000
TZNAME:UTC
DTSTART:20230101T000000
END:STANDARD
END:VTIMEZONE
BEGIN:VEVENT
DTSTART;TZID=UTC:20240410T180000
DTEND;TZID=UTC:20240410T200000
DTSTAMP:20260423T212055
CREATED:20240220T112719Z
LAST-MODIFIED:20240220T112830Z
UID:635-1712772000-1712779200@participaenergia.com
SUMMARY:Charla de Difusión en Alagón
DESCRIPTION:
URL:https://participaenergia.com/evento/charla-de-difusion-en-alagon/
LOCATION:Sede Comarcal de la Ribera alta del Ebro\, c/ Almogavares\, 51.\, Alagón\, Zaragoza\, 50630\, España
CATEGORIES:Eventos de la OTC Participa Energía
ATTACH;FMTTYPE=image/svg+xml:https://participaenergia.com/wp-content/uploads/2023/11/difusion.svg
END:VEVENT
END:VCALENDAR